BEGIN:VCALENDAR
VERSION:2.0
PRODID:-//Mayfield Village Recreation - ECPv6.15.20//NONSGML v1.0//EN
CALSCALE:GREGORIAN
METHOD:PUBLISH
X-ORIGINAL-URL:https://recreation.mayfieldvillage.com
X-WR-CALDESC:Events for Mayfield Village Recreation
REFRESH-INTERVAL;VALUE=DURATION:PT1H
X-Robots-Tag:noindex
X-PUBLISHED-TTL:PT1H
BEGIN:VTIMEZONE
TZID:America/New_York
BEGIN:DAYLIGHT
TZOFFSETFROM:-0500
TZOFFSETTO:-0400
TZNAME:EDT
DTSTART:20250309T070000
END:DAYLIGHT
BEGIN:STANDARD
TZOFFSETFROM:-0400
TZOFFSETTO:-0500
TZNAME:EST
DTSTART:20251102T060000
END:STANDARD
BEGIN:DAYLIGHT
TZOFFSETFROM:-0500
TZOFFSETTO:-0400
TZNAME:EDT
DTSTART:20260308T070000
END:DAYLIGHT
BEGIN:STANDARD
TZOFFSETFROM:-0400
TZOFFSETTO:-0500
TZNAME:EST
DTSTART:20261101T060000
END:STANDARD
BEGIN:DAYLIGHT
TZOFFSETFROM:-0500
TZOFFSETTO:-0400
TZNAME:EDT
DTSTART:20270314T070000
END:DAYLIGHT
BEGIN:STANDARD
TZOFFSETFROM:-0400
TZOFFSETTO:-0500
TZNAME:EST
DTSTART:20271107T060000
END:STANDARD
END:VTIMEZONE
BEGIN:VEVENT
DTSTART;TZID=America/New_York:20260610T110000
DTEND;TZID=America/New_York:20260610T133000
DTSTAMP:20260419T112116
CREATED:20260226T164227Z
LAST-MODIFIED:20260226T164227Z
UID:10000180-1781089200-1781098200@recreation.mayfieldvillage.com
SUMMARY:Non-Stop Go
DESCRIPTION:Non-Stop Go wraps up the series with a mix of classic and current hits\, perfect for dancing or relaxing\, guaranteeing a feel-good end to summer.
URL:https://recreation.mayfieldvillage.com/event/non-stop-go-2/
LOCATION:The Gazebo\, 6621 Wilson Mills Road\, Mayfield Village\, OH\, 44143\, United States
CATEGORIES:The Gazebo
END:VEVENT
BEGIN:VEVENT
DTSTART;TZID=America/New_York:20260617T110000
DTEND;TZID=America/New_York:20260617T133000
DTSTAMP:20260419T112116
CREATED:20260226T164354Z
LAST-MODIFIED:20260226T164354Z
UID:10000181-1781694000-1781703000@recreation.mayfieldvillage.com
SUMMARY:Cheeseburgers Lite
DESCRIPTION:Cheeseburgers Lite brings Jimmy Buffett classics and island tunes\, with Tom showcasing his skills on guitar\, flute\, harmonica\, and ukulele. Get ready for a fun\, beach-party vibe!
URL:https://recreation.mayfieldvillage.com/event/cheeseburgers-lite-2/
LOCATION:The Gazebo\, 6621 Wilson Mills Road\, Mayfield Village\, OH\, 44143\, United States
CATEGORIES:The Gazebo
END:VEVENT
BEGIN:VEVENT
DTSTART;TZID=America/New_York:20260624T110000
DTEND;TZID=America/New_York:20260624T133000
DTSTAMP:20260419T112116
CREATED:20260226T164453Z
LAST-MODIFIED:20260226T164453Z
UID:10000182-1782298800-1782307800@recreation.mayfieldvillage.com
SUMMARY:Disco Express
DESCRIPTION:Disco Express brings the ultimate 70s disco hits to the Gazebo\, with a lively\, dance-filled lunch series featuring the iconic sounds and style of the era.
URL:https://recreation.mayfieldvillage.com/event/disco-express-3/
LOCATION:The Gazebo\, 6621 Wilson Mills Road\, Mayfield Village\, OH\, 44143\, United States
CATEGORIES:The Gazebo
END:VEVENT
BEGIN:VEVENT
DTSTART;TZID=America/New_York:20260701T110000
DTEND;TZID=America/New_York:20260701T133000
DTSTAMP:20260419T112116
CREATED:20260226T164541Z
LAST-MODIFIED:20260226T164541Z
UID:10000183-1782903600-1782912600@recreation.mayfieldvillage.com
SUMMARY:The Zoomies
DESCRIPTION:The Zoomies are a seven-piece band offering a high-energy mix of disco\, funk\, pop\, and more—perfect for getting into the groove during lunch. 
URL:https://recreation.mayfieldvillage.com/event/the-zoomies-2/
LOCATION:The Gazebo\, 6621 Wilson Mills Road\, Mayfield Village\, OH\, 44143\, United States
CATEGORIES:The Gazebo
END:VEVENT
BEGIN:VEVENT
DTSTART;TZID=America/New_York:20260708T110000
DTEND;TZID=America/New_York:20260708T133000
DTSTAMP:20260419T112116
CREATED:20260226T164634Z
LAST-MODIFIED:20260226T164634Z
UID:10000184-1783508400-1783517400@recreation.mayfieldvillage.com
SUMMARY:Walt Sanders
DESCRIPTION:Walt Sanders – A Tribute to Elvis brings the voice\, style\, and charisma of the King of Rock ’n’ Roll to life. With powerful vocals\, authentic stage presence\, and attention to detail\, Walt honors Elvis’ greatest hits from every era of his career. Every performance is a heartfelt celebration that captures the energy and magic of Elvis Presley. 
URL:https://recreation.mayfieldvillage.com/event/walt-sanders-2/
LOCATION:OH
CATEGORIES:The Gazebo
END:VEVENT
BEGIN:VEVENT
DTSTART;TZID=America/New_York:20260722T110000
DTEND;TZID=America/New_York:20260722T133000
DTSTAMP:20260419T112116
CREATED:20260226T164723Z
LAST-MODIFIED:20260226T164723Z
UID:10000185-1784718000-1784727000@recreation.mayfieldvillage.com
SUMMARY:Frank and Dean
DESCRIPTION:Enjoy a nostalgic afternoon with Frank and Dean\, as they bring the classic charm and humor of the Rat Pack\, performing hits like “Fly Me to the Moon” and “That’s Amore.”.
URL:https://recreation.mayfieldvillage.com/event/frank-and-dean/
LOCATION:The Gazebo\, 6621 Wilson Mills Road\, Mayfield Village\, OH\, 44143\, United States
CATEGORIES:The Gazebo
END:VEVENT
BEGIN:VEVENT
DTSTART;TZID=America/New_York:20260729T110000
DTEND;TZID=America/New_York:20260729T133000
DTSTAMP:20260419T112116
CREATED:20260226T164902Z
LAST-MODIFIED:20260226T164902Z
UID:10000186-1785322800-1785331800@recreation.mayfieldvillage.com
SUMMARY:Still Standing
DESCRIPTION:Still Standing is a talented band featuring Cleveland music veterans\, offering a mix of classic rock and R&B with powerful harmonies and musicianship. Former members of Rainbow Canyon and Bruno Brothers bring the golden era to life. 
URL:https://recreation.mayfieldvillage.com/event/still-standing-3/
LOCATION:The Gazebo\, 6621 Wilson Mills Road\, Mayfield Village\, OH\, 44143\, United States
CATEGORIES:The Gazebo
END:VEVENT
BEGIN:VEVENT
DTSTART;TZID=America/New_York:20260805T110000
DTEND;TZID=America/New_York:20260805T133000
DTSTAMP:20260419T112116
CREATED:20260226T164953Z
LAST-MODIFIED:20260226T164953Z
UID:10000187-1785927600-1785936600@recreation.mayfieldvillage.com
SUMMARY:Hair Supply
DESCRIPTION:Hair Supply offers a fun acoustic duo performance blending 70s soft rock and 80s ballads\, perfect for laid-back lunch entertainment. 
URL:https://recreation.mayfieldvillage.com/event/hair-supply-2/
LOCATION:The Gazebo\, 6621 Wilson Mills Road\, Mayfield Village\, OH\, 44143\, United States
CATEGORIES:The Gazebo
END:VEVENT
BEGIN:VEVENT
DTSTART;TZID=America/New_York:20260812T110000
DTEND;TZID=America/New_York:20260812T133000
DTSTAMP:20260419T112116
CREATED:20260226T165038Z
LAST-MODIFIED:20260226T165038Z
UID:10000188-1786532400-1786541400@recreation.mayfieldvillage.com
SUMMARY:Buckshot County Band
DESCRIPTION:Buckshot Country Band delivers high-energy\, authentic country music with a modern edge. With tight instrumentation\, powerful vocals\, and crowd-pleasing hits\, they perform a mix of classic and contemporary country favorites. Every show is a lively\, unforgettable celebration of the spirit and sound of country music. 
URL:https://recreation.mayfieldvillage.com/event/buckshot-county-band/
LOCATION:The Gazebo\, 6621 Wilson Mills Road\, Mayfield Village\, OH\, 44143\, United States
CATEGORIES:The Gazebo
END:VEVENT
END:VCALENDAR