BEGIN:VCALENDAR
VERSION:2.0
PRODID:-//Mayfield Village Recreation - ECPv6.15.20//NONSGML v1.0//EN
CALSCALE:GREGORIAN
METHOD:PUBLISH
X-WR-CALNAME:Mayfield Village Recreation
X-ORIGINAL-URL:https://recreation.mayfieldvillage.com
X-WR-CALDESC:Events for Mayfield Village Recreation
REFRESH-INTERVAL;VALUE=DURATION:PT1H
X-Robots-Tag:noindex
X-PUBLISHED-TTL:PT1H
BEGIN:VTIMEZONE
TZID:America/New_York
BEGIN:DAYLIGHT
TZOFFSETFROM:-0500
TZOFFSETTO:-0400
TZNAME:EDT
DTSTART:20220313T070000
END:DAYLIGHT
BEGIN:STANDARD
TZOFFSETFROM:-0400
TZOFFSETTO:-0500
TZNAME:EST
DTSTART:20221106T060000
END:STANDARD
BEGIN:DAYLIGHT
TZOFFSETFROM:-0500
TZOFFSETTO:-0400
TZNAME:EDT
DTSTART:20230312T070000
END:DAYLIGHT
BEGIN:STANDARD
TZOFFSETFROM:-0400
TZOFFSETTO:-0500
TZNAME:EST
DTSTART:20231105T060000
END:STANDARD
BEGIN:DAYLIGHT
TZOFFSETFROM:-0500
TZOFFSETTO:-0400
TZNAME:EDT
DTSTART:20240310T070000
END:DAYLIGHT
BEGIN:STANDARD
TZOFFSETFROM:-0400
TZOFFSETTO:-0500
TZNAME:EST
DTSTART:20241103T060000
END:STANDARD
BEGIN:DAYLIGHT
TZOFFSETFROM:-0500
TZOFFSETTO:-0400
TZNAME:EDT
DTSTART:20250309T070000
END:DAYLIGHT
BEGIN:STANDARD
TZOFFSETFROM:-0400
TZOFFSETTO:-0500
TZNAME:EST
DTSTART:20251102T060000
END:STANDARD
END:VTIMEZONE
BEGIN:VEVENT
DTSTART;TZID=America/New_York:20240717T120000
DTEND;TZID=America/New_York:20240717T140000
DTSTAMP:20260422T225313
CREATED:20240314T143234Z
LAST-MODIFIED:20240314T143234Z
UID:10000091-1721217600-1721224800@recreation.mayfieldvillage.com
SUMMARY:Senior Picnic
DESCRIPTION:For Mayfield Village Senior Residents. Traditional picnic fare of hamburgers\, hot dogs\, potato salad\, etc. Vegetarian option available upon request. Registration Deadline: 7/5. Located at the Parkview Pool Pavilion.
URL:https://recreation.mayfieldvillage.com/event/senior-picnic/
LOCATION:OH
CATEGORIES:Special Events
END:VEVENT
BEGIN:VEVENT
DTSTART;TZID=America/New_York:20240630T113000
DTEND;TZID=America/New_York:20240630T220000
DTSTAMP:20260422T225313
CREATED:20240228T171019Z
LAST-MODIFIED:20240628T165050Z
UID:10000085-1719747000-1719784800@recreation.mayfieldvillage.com
SUMMARY:Independence Day Celebration
DESCRIPTION:DATE CHANGE: Due to inclement weather concerns\, the Mayfield Village Independence Day Celebration originally scheduled for June 29\, 2024\, has been rescheduled to June 30\, 2024. \nKid friendly activities at Parkview Pool from 11:30 a.m.-4:00 p.m. (times subject to change). A variety of entertainment and concession providers will also be on- site at The Grove starting at 5:00 p.m. Music at The Grove will begin at 7:30 p.m. with Terry Lee Goffee – An All-American Salute to Johnny Cash. Fireworks at 10:00p.m. Cars can park in the pool parking lot\, the softball parking lot\, or the lots at Progressive. Rain date is June 30 for fireworks only. \nPARKVIEW POOL\nKids Activities\nVillage residents Free\nRegular admission for others\nParkview Pool/The Grove \nTHE GROVE\nMusic\, Kids Activities\,\nFireworks Free
URL:https://recreation.mayfieldvillage.com/event/independence-day-celebration-2/
LOCATION:The Grove\, 425 North Commons Blvd\, Mayfield Village\, 44143\, United States
CATEGORIES:Parkview Pool,Special Events,The Grove
END:VEVENT
BEGIN:VEVENT
DTSTART;TZID=America/New_York:20240608T160000
DTEND;TZID=America/New_York:20240608T210000
DTSTAMP:20260422T225313
CREATED:20240228T154452Z
LAST-MODIFIED:20240228T154452Z
UID:10000058-1717862400-1717880400@recreation.mayfieldvillage.com
SUMMARY:Cruise Night
DESCRIPTION:Cruise Night brings cars\, music\, entertainment and food to Mayfield Village. Classic cars will be able to park in the lots at the center of town\, while vehicles older than 1993 can begin cruising along Wilson Mills at 5:00 p.m. Family activities will be scheduled near the gazebo and may include face painting\, balloons\, music and more! Alfresco dining available at local restaurants. Listen to different music throughout the event: Out of Eden at Plaza Stage\, and FM 77 at the at Austin’s Steakhouse Stage. \nCruise Night is free of charge and any donations collected during the cruise will go to Hillcrest Meals on Wheels. Bring your family and friends and enjoy an incredible event right in Mayfield Village. Park on Beta Drive or Mount Vernon Square and look for the transportation stops to the heart of the festivities. (Rain Date: 6/9\, 1:00-5:00P) \nCheck out this year’s entertainment! \nThe Plaza Stage\nOut of Eden – Out of Eden kicks off the 2024 Mayfield Village Family Cruise Event with the music of Eagles\, Joe Walsh and Don Henley solo hits. This is a beautiful venue\, family friendly and Ohio’s best Eagles Tribute. \nAustin’s Steakhouse Stage\nFM77 Band -Take a trip back in time to the year 1977. FM77 performs those classic hits you forgot you remembered from the 70’s era from rock to disco and everything in between. \nGazebo Stage\nTada the Magician A Magician that Specializes in family fun that will amaze you from beginning to end. \nCommunity Center Entertainment\nHenna Tattoos                   4:30-8:30 P\nBalloon Artist                     4:30-8:30 P\nGlitter Tattoos                   4:30-8:30 P\nFace Painters                     4:30-8:30 P\nBounce House                   4:30-8:30 P
URL:https://recreation.mayfieldvillage.com/event/cruise-night/
LOCATION:OH
CATEGORIES:Special Events,The Gazebo
END:VEVENT
BEGIN:VEVENT
DTSTART;TZID=America/New_York:20240406T110000
DTEND;TZID=America/New_York:20240406T133000
DTSTAMP:20260422T225313
CREATED:20240314T142800Z
LAST-MODIFIED:20240405T161128Z
UID:10000088-1712401200-1712410200@recreation.mayfieldvillage.com
SUMMARY:Easter Trail Eggstravaganza: Now @ Civic Center
DESCRIPTION:Exclusively for children and grandchildren (newborn to 11 years old) of Mayfield Village residents\, this family-friendly event guarantees fun for the entire family. Join us for the Easter Bunny After Party\, featuring engaging activities along the trail\, photo opportunities with the Easter Bunny\, and entertaining performances at the Civic Center. \nThe culminating moment of this festive gathering will be the egg hunt\, so don’t forget to bring a basket to collect the eggs! Ensure your participation by registering before March 22. Advanced registration is a must for this exciting celebration. Registration Dates 2/27/24 – 3/22/23. Must register in advance ($5/child).
URL:https://recreation.mayfieldvillage.com/event/easter-trail-eggstravaganza-2/
LOCATION:OH
CATEGORIES:Special Events
END:VEVENT
BEGIN:VEVENT
DTSTART;TZID=America/New_York:20240328T120000
DTEND;TZID=America/New_York:20240328T140000
DTSTAMP:20260422T225313
CREATED:20240314T143104Z
LAST-MODIFIED:20240314T143104Z
UID:10000090-1711627200-1711634400@recreation.mayfieldvillage.com
SUMMARY:Senior Appreciation
DESCRIPTION:We want to show our appreciation to all of you who support our programs throughout the year! Come enjoy food and music while you talk with friends and hopefully meet new ones. Registration Timeline: Registration begins on February 20th for Mayfield Village Residents and is ongoing until full. Beginning March 5th\, registration opens up to all seniors outside of Mayfield Village. Limited to 80 spots. Registration Required. \n 
URL:https://recreation.mayfieldvillage.com/event/senior-appreciation/
LOCATION:OH
CATEGORIES:Special Events
END:VEVENT
BEGIN:VEVENT
DTSTART;TZID=America/New_York:20240319T110000
DTEND;TZID=America/New_York:20240319T123000
DTSTAMP:20260422T225313
CREATED:20240314T143031Z
LAST-MODIFIED:20240314T143031Z
UID:10000089-1710846000-1710851400@recreation.mayfieldvillage.com
SUMMARY:Senior Easter Egg Hunt
DESCRIPTION:Join us for pizza\, salad and an Easter Egg Hunt. Enjoy great food and childlike joy as you collect the easter eggs filled with goodies around the Gazebo! Registration required. Sign up today! $5
URL:https://recreation.mayfieldvillage.com/event/senior-easter-egg-hunt/
LOCATION:OH
CATEGORIES:Special Events
END:VEVENT
BEGIN:VEVENT
DTSTART;TZID=America/New_York:20240313T183000
DTEND;TZID=America/New_York:20240313T203000
DTSTAMP:20260422T225313
CREATED:20230828T220338Z
LAST-MODIFIED:20240228T154119Z
UID:10000049-1710354600-1710361800@recreation.mayfieldvillage.com
SUMMARY:Celtic Rush
DESCRIPTION:We perform predominantly Celtic traditional music\, but not always in a traditional manner! Join us for a song\, or a hornpipe\, or something with our own twist.
URL:https://recreation.mayfieldvillage.com/event/celtic-rush/
LOCATION:Reserve Hall\, 6622 Wilson Mills Road\, Mayfield Village\, OH\, 44143\, United States
CATEGORIES:Reserve Hall,Special Events
END:VEVENT
BEGIN:VEVENT
DTSTART;TZID=America/New_York:20240307T183000
DTEND;TZID=America/New_York:20240307T203000
DTSTAMP:20260422T225313
CREATED:20230828T220130Z
LAST-MODIFIED:20240228T154110Z
UID:10000048-1709836200-1709843400@recreation.mayfieldvillage.com
SUMMARY:Justo Saborit-Latin Jazz
DESCRIPTION:A master of his instrument. He is a native of Havana\, Cuba where he began his music studies. He has studied and performed various styles ranging from classical\, blues\, jazz\, rock & R&B. Justo Saborit has created a sound that is very refreshing and yet distinctive.
URL:https://recreation.mayfieldvillage.com/event/justo-saborit-latin-jazz/
LOCATION:Reserve Hall\, 6622 Wilson Mills Road\, Mayfield Village\, OH\, 44143\, United States
CATEGORIES:Reserve Hall,Special Events
END:VEVENT
BEGIN:VEVENT
DTSTART;TZID=America/New_York:20240229T183000
DTEND;TZID=America/New_York:20240229T203000
DTSTAMP:20260422T225313
CREATED:20240117T152218Z
LAST-MODIFIED:20240228T154047Z
UID:10000057-1709231400-1709238600@recreation.mayfieldvillage.com
SUMMARY:Erie Heights Brass Ensemble
DESCRIPTION:A Mardi Gras Celebration
URL:https://recreation.mayfieldvillage.com/event/erie-heights-brass-ensemble/
LOCATION:Reserve Hall\, 6622 Wilson Mills Road\, Mayfield Village\, OH\, 44143\, United States
CATEGORIES:Reserve Hall,Special Events
END:VEVENT
BEGIN:VEVENT
DTSTART;TZID=America/New_York:20231219T100000
DTEND;TZID=America/New_York:20231219T120000
DTSTAMP:20260422T225313
CREATED:20230908T173335Z
LAST-MODIFIED:20231003T185916Z
UID:10000054-1702980000-1702987200@recreation.mayfieldvillage.com
SUMMARY:Holiday Brunch w/ Frank and Dean
DESCRIPTION:Breakfast and a show? Yes\, please! Relax before the rush of the holidays while we listen to the music and jokes of Frank and Dean. A light breakfast will be provided by Governor’s Village. Registration Deadline: 12/11.
URL:https://recreation.mayfieldvillage.com/event/holiday-brunch-w-frank-and-dean/
LOCATION:Community Room\, 6621 Wilson Mills Road\, Mayfield Village\, OH\, 44143\, United States
CATEGORIES:Special Events
END:VEVENT
BEGIN:VEVENT
DTSTART;TZID=America/New_York:20231208T120000
DTEND;TZID=America/New_York:20231208T140000
DTSTAMP:20260422T225313
CREATED:20230908T173221Z
LAST-MODIFIED:20231003T185932Z
UID:10000053-1702036800-1702044000@recreation.mayfieldvillage.com
SUMMARY:Holiday Party for MV Senior Residents
DESCRIPTION:Celebrate the holidays together! There will be delicious catering and live entertainment. Doors open at 11:50 a.m. Hors d’oeuvres\, lunch\, and entertainment. Registration is limited to 75 and begins 10/30. Registration Deadline: 11/17.
URL:https://recreation.mayfieldvillage.com/event/holiday-party-for-mv-senior-residents/
LOCATION:Community Room\, 6621 Wilson Mills Road\, Mayfield Village\, OH\, 44143\, United States
CATEGORIES:Special Events
END:VEVENT
BEGIN:VEVENT
DTSTART;TZID=America/New_York:20231207T190000
DTEND;TZID=America/New_York:20231207T200000
DTSTAMP:20260422T225313
CREATED:20230828T175906Z
LAST-MODIFIED:20231003T185945Z
UID:10000045-1701975600-1701979200@recreation.mayfieldvillage.com
SUMMARY:Menorah Lighting
DESCRIPTION:Join the Village as it lights the first Hanukkah candle. The group will gather near the Menorah snow or shine. Refreshments will be available in the Community Room after the lighting.
URL:https://recreation.mayfieldvillage.com/event/menorah-lighting/
LOCATION:OH
CATEGORIES:Special Events,The Gazebo
END:VEVENT
BEGIN:VEVENT
DTSTART;TZID=America/New_York:20231202T180000
DTEND;TZID=America/New_York:20231202T190000
DTSTAMP:20260422T225313
CREATED:20230828T175811Z
LAST-MODIFIED:20231003T185958Z
UID:10000044-1701540000-1701543600@recreation.mayfieldvillage.com
SUMMARY:Tree Lighting
DESCRIPTION:Dress for the weather and enjoy holiday songs as the trees near the gazebo will be lit for a fabulous display.
URL:https://recreation.mayfieldvillage.com/event/tree-lighting/
LOCATION:OH
CATEGORIES:Special Events,The Gazebo
END:VEVENT
BEGIN:VEVENT
DTSTART;TZID=America/New_York:20231202T103000
DTEND;TZID=America/New_York:20231202T153000
DTSTAMP:20260422T225313
CREATED:20230828T175725Z
LAST-MODIFIED:20231003T190012Z
UID:10000043-1701513000-1701531000@recreation.mayfieldvillage.com
SUMMARY:Santa Floats through the Village
DESCRIPTION:Santa and elves will visit Mayfield Village residents as he shares his holiday spirit atop a float as they pass through the streets starting at 10:30 A.
URL:https://recreation.mayfieldvillage.com/event/santa-floats-through-the-village/
LOCATION:OH
CATEGORIES:Special Events
END:VEVENT
BEGIN:VEVENT
DTSTART;TZID=America/New_York:20231202T083000
DTEND;TZID=America/New_York:20231202T100000
DTSTAMP:20260422T225313
CREATED:20230828T175614Z
LAST-MODIFIED:20231003T190026Z
UID:10000042-1701505800-1701511200@recreation.mayfieldvillage.com
SUMMARY:Pictures with Santa
DESCRIPTION:Only for Mayfield Village Residents! Santa will be available in the Community Room for a quick picture before he heads out on the float to visit Residents.
URL:https://recreation.mayfieldvillage.com/event/pictures-with-santa/
LOCATION:Community Room\, 6621 Wilson Mills Road\, Mayfield Village\, OH\, 44143\, United States
CATEGORIES:Special Events
END:VEVENT
BEGIN:VEVENT
DTSTART;TZID=America/New_York:20231110T100000
DTEND;TZID=America/New_York:20231110T120000
DTSTAMP:20260422T225313
CREATED:20230828T220846Z
LAST-MODIFIED:20231003T190040Z
UID:10000051-1699610400-1699617600@recreation.mayfieldvillage.com
SUMMARY:Salute to Veterans
DESCRIPTION:Inviting all Veterans\, and a guest\, to join us in celebrating those who served our Nation. The program will start with a ceremony in the morning followed by a light lunch provided by Pizzazz. Registration Deadline: 11/5. To register \, please contact our Senior Service office at 440.919.2332.
URL:https://recreation.mayfieldvillage.com/event/salute-to-veterans/
LOCATION:Community Room\, 6621 Wilson Mills Road\, Mayfield Village\, OH\, 44143\, United States
CATEGORIES:Special Events
END:VEVENT
BEGIN:VEVENT
DTSTART;TZID=America/New_York:20231014T110000
DTEND;TZID=America/New_York:20231014T133000
DTSTAMP:20260422T225313
CREATED:20230828T175312Z
LAST-MODIFIED:20231013T142942Z
UID:10000041-1697281200-1697290200@recreation.mayfieldvillage.com
SUMMARY:The Trick or Treat Trail
DESCRIPTION:*Location changed to the MV Civic Center \nCalling all ghosts and goblins! Join us for our Annual Trick or Treat Trail! Mayfield Village Families are invited to enjoy the Trick-or-Treat Trail. The day begins with entertainment at The Grove followed by a trail full of games\, activities\, and candy that leads you to a hayride that will take your family to our pumpkin patch! \n 
URL:https://recreation.mayfieldvillage.com/event/the-trick-or-treat-trail/
LOCATION:Civic Center (6622 Wilson Mills)\, 6622 Wilson Mills Rd\, Mayfield\, OH\, 44143\, United States
CATEGORIES:Special Events
END:VEVENT
BEGIN:VEVENT
DTSTART;TZID=America/New_York:20230928T120000
DTEND;TZID=America/New_York:20230928T143000
DTSTAMP:20260422T225313
CREATED:20230828T220645Z
LAST-MODIFIED:20230828T220645Z
UID:10000050-1695902400-1695911400@recreation.mayfieldvillage.com
SUMMARY:Senior Resource Fair
DESCRIPTION:There will be an abundance of senior service providers from around the area. Representatives from many of the Mayfield Village Departments will be available. The first 200 seniors who join us for the event will receive a Resource Bag with donations from each service provider. Come find out what resources will benefit you.
URL:https://recreation.mayfieldvillage.com/event/senior-resource-fair/
LOCATION:Community Room\, 6621 Wilson Mills Road\, Mayfield Village\, OH\, 44143\, United States
CATEGORIES:Special Events
END:VEVENT
BEGIN:VEVENT
DTSTART;TZID=America/New_York:20230920T090000
DTEND;TZID=America/New_York:20230920T120000
DTSTAMP:20260422T225313
CREATED:20230908T173013Z
LAST-MODIFIED:20230908T173013Z
UID:10000052-1695200400-1695211200@recreation.mayfieldvillage.com
SUMMARY:5 O’ClOCK SOMEWHERE
DESCRIPTION:Live entertainment from the Jimmy Buffett Tribute Band\, Cheese Burger in Paradise. Light refreshments and mocktails will be available. Mocktail mixing sponsored by Governor’s Village. \nRegistration Deadline: 9/13 $5
URL:https://recreation.mayfieldvillage.com/event/5-oclock-somewhere/
LOCATION:OH
CATEGORIES:Special Events
END:VEVENT
BEGIN:VEVENT
DTSTART;TZID=America/New_York:20230805T080000
DTEND;TZID=America/New_York:20230805T173000
DTSTAMP:20260422T225313
CREATED:20230517T235043Z
LAST-MODIFIED:20230517T235048Z
UID:10000038-1691222400-1691256600@recreation.mayfieldvillage.com
SUMMARY:Village Party
DESCRIPTION:An event for Mayfield Village & Their Guest! \n12pm to 5pm @ Parkview Pool\nFree Swim all day for Mayfield Village residents and their guest \n1pm to 3pm @ Parkview Pool\nMagician and balloons \n1pm to 4pm @ Parkview Pool\nMusic \n1:30pm to 4:30pm @ Parkview Pool\nFace Painting \n5pm to 9pm @ The Grove\nFace Painting\nBalloon Twister\nCaricature Artists \n4pm to 6pm @ The Grove\nJungle Bob \n6pm to 7pm @ The Grove\nHypnotist Mike Oddo \n7pm to 9:30pm @ The Grove\nMaterial Girls\nA high energy musical production backed by studio musicians\, that recreate the ladies that topped the pop charts with all #1 hit songs by Adele\, Lady Gaga\, Madonna\, Blondie\, Alison Wilson\, Shania and Cher.
URL:https://recreation.mayfieldvillage.com/event/village-party/
LOCATION:OH
CATEGORIES:Parkview Pool,Special Events,The Grove
END:VEVENT
BEGIN:VEVENT
DTSTART;TZID=America/New_York:20230721T080000
DTEND;TZID=America/New_York:20230721T100000
DTSTAMP:20260422T225313
CREATED:20230517T235438Z
LAST-MODIFIED:20230517T235438Z
UID:10000039-1689926400-1689933600@recreation.mayfieldvillage.com
SUMMARY:Senior Picnic For Mayfield Village Senior Residents
DESCRIPTION:Traditional picnic fare of hamburgers\, hot dogs\, potato salad\, etc. Vegetarian option available upon request. Registration Deadline: 7/6. \nFriday July 21st\, 12pm to 2pm at the Parkview Pool Pavilion
URL:https://recreation.mayfieldvillage.com/event/senior-picnic-for-mayfield-village-senior-residents/
LOCATION:OH
CATEGORIES:Parkview Pool,Special Events
END:VEVENT
BEGIN:VEVENT
DTSTART;TZID=America/New_York:20230701T073000
DTEND;TZID=America/New_York:20230701T180000
DTSTAMP:20260422T225313
CREATED:20230515T193217Z
LAST-MODIFIED:20230517T203817Z
UID:10000012-1688196600-1688234400@recreation.mayfieldvillage.com
SUMMARY:Independence Day Celebration
DESCRIPTION:Kid friendly activities at Parkview Pool from 11:30 a.m.-4:00 p.m. (times subject to change). A variety of entertainment and concession providers will also be onsite at The Grove starting at 5:00p.m. A Magic Show will take the stage at 6:00 p.m. Music at The Grove will begin at 7:00 p.m. with Jersey Beat Band. Fireworks at 10:00\np.m. Cars can park in the pool parking lot\, the softball parking lot\, or the lots at Progressive. Rain date is July 2 for fireworks only. \nPARKVIEW POOL\nKids Activities\nVillage residents\nFree Regular admission for others \nTHE GROVE\nMusic\, Kids Activities\, Fireworks Free
URL:https://recreation.mayfieldvillage.com/event/independence-day-celebration/
LOCATION:OH
CATEGORIES:Parkview Pool,Special Events,The Grove
END:VEVENT
BEGIN:VEVENT
DTSTART;TZID=America/New_York:20230621T140000
DTEND;TZID=America/New_York:20230621T150000
DTSTAMP:20260422T225313
CREATED:20230515T193030Z
LAST-MODIFIED:20230517T204616Z
UID:10000011-1687356000-1687359600@recreation.mayfieldvillage.com
SUMMARY:International Day of Yoga
DESCRIPTION:The International Day of Yoga is an official observance day established by the United Nations in December 2014. The\npurpose of this day is to promote yoga as a way to not only increase physical activity but as a way to balance physical\nand mental health. No registration required. Bring a yoga mat.
URL:https://recreation.mayfieldvillage.com/event/international-day-of-yoga/
LOCATION:The Gazebo\, 6621 Wilson Mills Road\, Mayfield Village\, OH\, 44143\, United States
CATEGORIES:Special Events,The Gazebo
END:VEVENT
BEGIN:VEVENT
DTSTART;TZID=America/New_York:20230618T073000
DTEND;TZID=America/New_York:20230618T130000
DTSTAMP:20260422T225313
CREATED:20230517T235546Z
LAST-MODIFIED:20230517T235546Z
UID:10000040-1687073400-1687093200@recreation.mayfieldvillage.com
SUMMARY:Father's Day At Parkview Pool
DESCRIPTION:Spend the day with dad/grandpa. Enjoy everything Parkview has to offer. Swim\, play and eat at the pool. Price includes entrance and a picnic lunch. Lunch served from 12:30-2:00 P \nDad/grandpa/5 yrs and under are FREE\n6-17 yr. olds – $5\nAdults – $10
URL:https://recreation.mayfieldvillage.com/event/fathers-day-at-parkview-pool/
LOCATION:OH
CATEGORIES:Parkview Pool,Special Events
END:VEVENT
BEGIN:VEVENT
DTSTART;TZID=America/New_York:20230610T120000
DTEND;TZID=America/New_York:20230610T170000
DTSTAMP:20260422T225313
CREATED:20230515T192928Z
LAST-MODIFIED:20230517T204640Z
UID:10000010-1686398400-1686416400@recreation.mayfieldvillage.com
SUMMARY:Mayfield Village Family Cruise Night
DESCRIPTION:Cruise Night brings cars\, music\, entertainment and food to Mayfield Village. Classic cars will be able to\npark in the lots at the center of town\, while vehicles older than 1993 can begin cruising along Wilson Mills\nat 5:00 p.m. Family activities will be scheduled near the gazebo and may include face painting\, balloons\,\nmusic and more! Alfresco dining available at local restaurants. Listen to different music throughout the\nevent: The McCartney Project at Yours Truly\, and Suede Concept at Austin’s. \nCruise Night is free of charge and any donations collected during the cruise will go to Hillcrest Meals on\nWheels. Bring your family and friends and enjoy an incredible event right in Mayfield Village. Park on Beta\nDrive or Mount Vernon Square and look for the transportation stops to the heart of the festivities.\n(rain date 6/11 1:00-5:00 pm)
URL:https://recreation.mayfieldvillage.com/event/mayfield-village-family-cruise-night/
LOCATION:The Gazebo\, 6621 Wilson Mills Road\, Mayfield Village\, OH\, 44143\, United States
CATEGORIES:Special Events,The Gazebo
END:VEVENT
BEGIN:VEVENT
DTSTART;TZID=America/New_York:20230528T090000
DTEND;TZID=America/New_York:20230528T100000
DTSTAMP:20260422T225313
CREATED:20230515T192732Z
LAST-MODIFIED:20230523T001930Z
UID:10000009-1685264400-1685268000@recreation.mayfieldvillage.com
SUMMARY:Memorial Day Celebration
DESCRIPTION:Join the community in remembering all who perished while serving in the country’s armed forces. Mayfield Village and\nthe Disabled American Veterans help lead the ceremony of honoring our veterans of all wars. Music\, speeches\, Color\nGuard and all service flags will be honored.
URL:https://recreation.mayfieldvillage.com/event/memorial-day-celebration/
LOCATION:Whitehaven Memorial Park\, 615 Som Center Rd\, Mayfield Village\, OH\, 44143\, United States
CATEGORIES:Special Events
END:VEVENT
BEGIN:VEVENT
DTSTART;TZID=America/New_York:20230520T050000
DTEND;TZID=America/New_York:20230520T080000
DTSTAMP:20260422T225313
CREATED:20230515T192052Z
LAST-MODIFIED:20230517T204704Z
UID:10000008-1684558800-1684569600@recreation.mayfieldvillage.com
SUMMARY:Community Shred Day
DESCRIPTION:For Mayfield Village Residents. Limit of 5 boxes per household. Secure shredding on-site.
URL:https://recreation.mayfieldvillage.com/event/community-shred-day/
LOCATION:Civic Center (6622 Wilson Mills)\, 6622 Wilson Mills Rd\, Mayfield\, OH\, 44143\, United States
CATEGORIES:Special Events
END:VEVENT
BEGIN:VEVENT
DTSTART;TZID=America/New_York:20230514T040000
DTEND;TZID=America/New_York:20230514T083000
DTSTAMP:20260422T225313
CREATED:20230515T191916Z
LAST-MODIFIED:20230517T204738Z
UID:10000007-1684036800-1684053000@recreation.mayfieldvillage.com
SUMMARY:Mother's Day Pancake Breakfast
DESCRIPTION:Pizzazz will be on-site cooking a delicious breakfast including pancakes\, sausage and hash browns with coffee/\norange juice also provided. Register for a forty-five minute dine-in timeslot. If you wish to enjoy your breakfast at\nhome then a pickup option is available. The Mayfield Village Garden Club will also host its annual Garden Shop Sale\nduring the breakfast. \nRegistration begins March 21 for Mayfield Village residents and opens to all on April 11. Must register by\nMay 4. You will be able to pick your timeslot for dine-in/pickup when you register. If space is available\,\nwalk-ins will be accommodated. \nDine-in 8:00 A-12:00 P (reservations are 45 minutes) at Civic Center\nBy May 5: $6/child (5-12 yrs.) $10/adult (13-60 yrs.) $8/senior\nBeginning May 6: $8 child (5-12 yrs.) $12/adult (13-60 yrs.) $10/senior \nCurbside Pickup 7:30-11:15 A (reservations are every 15 minutes) at Pizzazz\n$32 Regular Order (serves 4-6 people\, beverages not included)\n$20 Additional Order (serves 2-4 people\, beverages not included)
URL:https://recreation.mayfieldvillage.com/event/mothers-day-pancake-breakfast/
LOCATION:Civic Center (6622 Wilson Mills)\, 6622 Wilson Mills Rd\, Mayfield\, OH\, 44143\, United States
CATEGORIES:Special Events
END:VEVENT
BEGIN:VEVENT
DTSTART;TZID=America/New_York:20230401T070000
DTEND;TZID=America/New_York:20230401T130000
DTSTAMP:20260422T225313
CREATED:20230515T191621Z
LAST-MODIFIED:20230517T204752Z
UID:10000006-1680332400-1680354000@recreation.mayfieldvillage.com
SUMMARY:Easter Trail Eggstravaganza
DESCRIPTION:Children and grandchildren (newborn-11 yr. olds) of Mayfield Village residents only. A family-friendly event with\nactivities that entertain the whole family. Games/activities along the trail\, pictures with the Easter Bunny and\nentertainers at The Grove. One of the most anticipated parts of the event is the Egg Hunt that takes place at the\nplayground. Kids can gather eggs at this final stop during the Easter Trail Eggstravaganza. \nRegister by March 22. Must Register in advance.  \n$5/child
URL:https://recreation.mayfieldvillage.com/event/easter-trail-eggstravaganza/
LOCATION:The Grove\, 425 North Commons Blvd\, Mayfield Village\, 44143\, United States
CATEGORIES:Special Events,The Grove
END:VEVENT
END:VCALENDAR